BEGIN:VCALENDAR
VERSION:2.0
PRODID:-//Body Breath &amp; Mind - ECPv6.15.20//NONSGML v1.0//EN
CALSCALE:GREGORIAN
METHOD:PUBLISH
X-WR-CALNAME:Body Breath &amp; Mind
X-ORIGINAL-URL:https://bodybreathmind.life
X-WR-CALDESC:Events for Body Breath &amp; Mind
REFRESH-INTERVAL;VALUE=DURATION:PT1H
X-Robots-Tag:noindex
X-PUBLISHED-TTL:PT1H
BEGIN:VTIMEZONE
TZID:UTC
BEGIN:STANDARD
TZOFFSETFROM:+0000
TZOFFSETTO:+0000
TZNAME:UTC
DTSTART:20250101T000000
END:STANDARD
END:VTIMEZONE
BEGIN:VEVENT
DTSTART;TZID=UTC:20260301T090000
DTEND;TZID=UTC:20260301T170000
DTSTAMP:20260424T165447
CREATED:20251228T150750Z
LAST-MODIFIED:20260223T124033Z
UID:46855-1772355600-1772384400@bodybreathmind.life
SUMMARY:Sauna Sundays
DESCRIPTION:Outdoor Sauna with a View sessions run every Sunday at the Winter Wellness Pop-Up\, Hawk Green Cricket Club. \nChoose from simple heat-only sauna sessions or full contrast sessions in our pop up saunas\, with a supervised cold plunge\, focused on your breath. Straightforward\, all-weather outdoor recovery with no spa pretence. \nAll sessions take place in the outdoor sauna tents with access to the chill-out area and cold camping showers.  Cold plunge sessions will feature fully supervised cold plunges\, alternating with time in the sauna for beneficial contrast therapy. Please arrive 10 minutes early and bring a towel\, water and warm layers. \nSESSION OPTIONS & PRICING\nSauna with Unsupervised Cold Plunge* – 60 minutes \nA simple outdoor sauna session. Includes access to the chill-out area and cold hand-held camping showers. No supervised cold plunge. \n\n£12 Standard Price\n£10 Discounted Rate**\nPrivate Individual Sauna £50 (for whole space private hire please whatsapp chelsie on 07747462429)\n\nSauna + Supervised Cold Plunge – 60 minutes \nA heat cycle followed by a safe\, guided cold plunge with breath cueing. \n\n£17 Standard Price\n£15 Discounted Rate**\nPrivate Individual Sauna Daytime Rate £70 (for whole space private hire please Whatsapp Chelsie on 07747462429)\n\n*Restrictions apply.  Experienced cold dippers only. Must read and agree to a disclaimer.  \n**Discounts apply to:  Hawk Green Cricket Club members\, Hawk Green Residents\, Secret Sauna Club subscribers\, concessions\, Men Outdoors participants \nLOCATION\nThe Winter Wellness Pop Up at Hawk Green Cricket Club\, Marple. On rare occasions you may be offered a private session at the Body Breath & Mind Studio. \nBOOKING\nUse the booking calendar below to choose your time and session type and request a booking or Whatsapp message Chelsie on 07747462429.  If your preferred time isn’t available please whatsapp and we can see what we can do. Once your appointment has been accepted you will get an email with details of how to pay and what to bring. \n\n		\n\n			\n			\n				\n										\n						\n					\n					\n						April 2026											\n									\n			\n			\n								Mon\n				Tue\n				Wed\n				Thu\n				Fri\n				Sat				Sun			\n		\n		3031123456789101112131415161718192021222324252627282930123
URL:https://bodybreathmind.life/event/sauna-sundays-18-jan/
LOCATION:Saunas with a View Pop-Up\, Hawk Green Cricket Club\, Hawk Green\, Marple\, Stockport\, United Kingdom
CATEGORIES:Sauna with a View,Winter Wellness Pop Up
ATTACH;FMTTYPE=image/jpeg:https://bodybreathmind.life/wp-content/uploads/2025/12/8C8D84FB-CC18-43A6-AFB6-8FE918658B54_1_105_c-e1766935311253.jpeg
ORGANIZER;CN="chelsie":MAILTO:chelsie@thefitbreath.com
END:VEVENT
BEGIN:VEVENT
DTSTART;TZID=UTC:20260304T180000
DTEND;TZID=UTC:20260304T203000
DTSTAMP:20260424T165447
CREATED:20260223T122851Z
LAST-MODIFIED:20260223T124022Z
UID:47223-1772647200-1772656200@bodybreathmind.life
SUMMARY:Wednesday Recovery Sessions (sauna + cold plunge)
DESCRIPTION:Outdoor Sauna with a View Wednesday Recovery sessions run every Wednesday at the Wellness Pop-Up\, Hawk Green Cricket Club. \nFor the serious recovery crowd\, sauna with access to cold plunge. Straightforward\, all-weather outdoor recovery with no spa pretence. \nAll sessions take place in the outdoor sauna tents with access to the chill-out area and cold camping showers.  Please arrive 10 minutes early and bring a towel\, water and warm layers. \nSESSION OPTIONS & PRICING\nChoose from the following times: \n\n18:00-19:00\n19:30-20:30\n\nSauna + UnSupervised Cold Plunge – 60 minutes \nA heat cycle followed by a safe\, guided cold plunge with breath cueing. \n\n£12 Standard Price\nPrivate Sauna £60\n\nLOCATION\nHawk Green Cricket Club\, Marple. \nBOOKING\nUse the booking calendar below to choose your time and session type and request a booking or Whatsapp message Chelsie on 07747462429.  Once your appointment has been accepted you will get an email with details of how to pay and what to bring. \n\n		\n\n			\n			\n				\n										\n						\n					\n					\n						April 2026											\n									\n			\n			\n								Mon\n				Tue\n				Wed\n				Thu\n				Fri\n				Sat				Sun			\n		\n		3031123456789101112131415161718192021222324252627282930123
URL:https://bodybreathmind.life/event/wednesday-recovery-sessions-sauna-cold-plunge/
CATEGORIES:Sauna with a View,Winter Wellness Pop Up
ATTACH;FMTTYPE=image/jpeg:https://bodybreathmind.life/wp-content/uploads/2026/01/3324AB5C-39CC-43A4-BD9E-F8A456A97CA9_1_105_c-e1767439921172.jpeg
END:VEVENT
BEGIN:VEVENT
DTSTART;TZID=UTC:20260306T170000
DTEND;TZID=UTC:20260306T180000
DTSTAMP:20260424T165447
CREATED:20260120T125900Z
LAST-MODIFIED:20260204T172610Z
UID:47049-1772816400-1772820000@bodybreathmind.life
SUMMARY:Private Group - Fireside Fridays - FULLY BOOKED
DESCRIPTION:Fireside Fridays\nPrivate sauna and cold plunge sessions at the Saunas with a View at the Winter Wellness Pop Up.  Bring up to 8 friends and have 90 mins contrast therapy\, alongside the firepit.  Add breathwork and movement as required for additional cost \nPricing\n\n£170 for private group no breathwork\n£250 for private group hire with breathwork added\nIf you are a local fitness or wellbeing professional and want to bring a group for session I run some special promotions to support other small business please contact me for details.\n\nWhatsapp Chelsie 07747462429 to book. \n 
URL:https://bodybreathmind.life/event/private-group-bookings-fireside-fridays/
LOCATION:Saunas with a View Pop-Up\, Hawk Green Cricket Club\, Hawk Green\, Marple\, Stockport\, United Kingdom
CATEGORIES:Winter Wellness Pop Up
ATTACH;FMTTYPE=image/jpeg:https://bodybreathmind.life/wp-content/uploads/2025/05/07A8ECC1-6E8A-47D0-8054-F8E270E709CB_1_105_c-e1768850572848.jpeg
END:VEVENT
BEGIN:VEVENT
DTSTART;TZID=UTC:20260307T173000
DTEND;TZID=UTC:20260307T183000
DTSTAMP:20260424T165447
CREATED:20260120T131216Z
LAST-MODIFIED:20260223T124011Z
UID:47053-1772904600-1772908200@bodybreathmind.life
SUMMARY:Fireside Sauna Sessions
DESCRIPTION:Outdoor Sauna & Cold Plunge | Evening Sessions \nFireside Sauna Sessions run on Saturday late afternoon/evenings\, at the Winter Wellness Pop-Up at Hawk Green Cricket Club. \nThese are relaxed\, fire-lit evening sauna sessions designed to help you unwind\, for active recovery and socialising. Sessions are simple and unhurried\, with access to the outdoor sauna tents\, chill-out area and cold plunge\, focusing on heat\, cold and your breath\, no spa pretence. \nAll sessions take place outdoors in the pop-up sauna tents\, with supervised cold plunges available during each session. The fire stays lit throughout the evening\, creating a calm\, social atmosphere without formal facilitation and the bell tent will also be open for you to relax in. \nPlease arrive 10 minutes early and bring a towel\, water and warm layers. \nSession Details\nFireside Sauna Session – 60 minutesOutdoor sauna session with access to the chill-out area and supervised cold plunge. \nPricing\n\n£20 per person public session.\nHire the whole venue privately for £170 for up to 8 people (saunas\, firepit\, supervised cold plunges – breathwork or other extas at additional cost) – please Whatsapp Message me 07747462429 before booking so we can get a\nHire individual saunas for you and up to 4 friends £85 per sauna. – Please Whatsapp message me 07747462429 before booking.\n\nImportant Notes \n\n\nThese are evening sauna sessions\, not guided breathwork or movement classes \n\n\nCold plunge is always optional \n\nSession spaces are limited by sauna capacity\n\nAdvance booking is recommended \n\n\nLocation\nHawk Green Cricket Club\, Marple. \nBooking\nUse the booking calendar below to choose your time and session type and request a booking or Whatsapp message Chelsie on 07747462429.  Once your appointment has been accepted you will get an email with details of how to pay and what to bring. \n\n		\n\n			\n			\n				\n										\n						\n					\n					\n						April 2026											\n									\n			\n			\n								Mon\n				Tue\n				Wed\n				Thu\n				Fri\n				Sat				Sun			\n		\n		3031123456789101112131415161718192021222324252627282930123
URL:https://bodybreathmind.life/event/fireside-sauna-sessions-2/
LOCATION:Saunas with a View Pop-Up\, Hawk Green Cricket Club\, Hawk Green\, Marple\, Stockport\, United Kingdom
CATEGORIES:Sauna with a View,Winter Wellness Pop Up
ATTACH;FMTTYPE=image/jpeg:https://bodybreathmind.life/wp-content/uploads/2025/05/07A8ECC1-6E8A-47D0-8054-F8E270E709CB_1_105_c-e1768850572848.jpeg
ORGANIZER;CN="chelsie":MAILTO:chelsie@thefitbreath.com
END:VEVENT
BEGIN:VEVENT
DTSTART;TZID=UTC:20260308T100000
DTEND;TZID=UTC:20260308T110000
DTSTAMP:20260424T165447
CREATED:20251228T150937Z
LAST-MODIFIED:20260223T124001Z
UID:46857-1772964000-1772967600@bodybreathmind.life
SUMMARY:Sauna Sundays
DESCRIPTION:Outdoor Sauna with a View sessions run every Sunday at the Winter Wellness Pop-Up\, Hawk Green Cricket Club. \nChoose from simple heat-only sauna sessions or full contrast sessions in our pop up saunas\, with a supervised cold plunge\, focused on your breath. Straightforward\, all-weather outdoor recovery with no spa pretence. \nAll sessions take place in the outdoor sauna tents with access to the chill-out area and cold camping showers.  Cold plunge sessions will feature fully supervised cold plunges\, alternating with time in the sauna for beneficial contrast therapy. Please arrive 10 minutes early and bring a towel\, water and warm layers. \nSESSION OPTIONS & PRICING\nSauna + Supervised Cold Plunge – 60 minutes \nA heat cycle followed by a safe\, guided cold plunge with breath cueing. \n\n£17 Standard Price\nPrivate Individual Sauna £70 (for whole space private hire please Whatsapp Chelsie on 07747462429)\n\nLOCATION\nThe Winter Wellness Pop Up at Hawk Green Cricket Club\, Marple. On rare occasions you may be offered a private session at the Body Breath & Mind Studio. \nBOOKING\nUse the booking calendar below to choose your time and session type and request a booking or Whatsapp message Chelsie on 07747462429.  If your preferred time isn’t available please whatsapp and we can see what we can do. Once your appointment has been accepted you will get an email with details of how to pay and what to bring. \n\n		\n\n			\n			\n				\n										\n						\n					\n					\n						April 2026											\n									\n			\n			\n								Mon\n				Tue\n				Wed\n				Thu\n				Fri\n				Sat				Sun			\n		\n		3031123456789101112131415161718192021222324252627282930123
URL:https://bodybreathmind.life/event/sauna-sundays-25-jan/
LOCATION:Saunas with a View Pop-Up\, Hawk Green Cricket Club\, Hawk Green\, Marple\, Stockport\, United Kingdom
CATEGORIES:Sauna with a View,Winter Wellness Pop Up
ATTACH;FMTTYPE=image/jpeg:https://bodybreathmind.life/wp-content/uploads/2025/12/8C8D84FB-CC18-43A6-AFB6-8FE918658B54_1_105_c-e1766935311253.jpeg
ORGANIZER;CN="chelsie":MAILTO:chelsie@thefitbreath.com
END:VEVENT
BEGIN:VEVENT
DTSTART;TZID=UTC:20260308T143000
DTEND;TZID=UTC:20260308T173000
DTSTAMP:20260424T165447
CREATED:20260204T171950Z
LAST-MODIFIED:20260204T172037Z
UID:47158-1772980200-1772991000@bodybreathmind.life
SUMMARY:International Womens Day Celebration with Empower Pilates
DESCRIPTION:Private event open only to member of Empower Reformer Pilates.   \nReformer class at the Empower Studio followed by cacao\, breathwork journalling\, sauna and cold plunge at the Body Breath & Mind Pop Up.  All enquiries to Empower
URL:https://bodybreathmind.life/event/international-womens-day-celebration-with-empower-pilates/
LOCATION:Saunas with a View Pop-Up\, Hawk Green Cricket Club\, Hawk Green\, Marple\, Stockport\, United Kingdom
CATEGORIES:Winter Wellness Pop Up
ATTACH;FMTTYPE=image/webp:https://bodybreathmind.life/wp-content/uploads/2026/02/Empower74-e1770225628941.webp
END:VEVENT
BEGIN:VEVENT
DTSTART;TZID=UTC:20260318T180000
DTEND;TZID=UTC:20260318T190000
DTSTAMP:20260424T165447
CREATED:20260223T122938Z
LAST-MODIFIED:20260302T192834Z
UID:47225-1773856800-1773860400@bodybreathmind.life
SUMMARY:Wednesday Recovery (sauna + Cold Plunge)
DESCRIPTION:Outdoor Sauna with a View Wednesday Recovery sessions run every Wednesday at the Wellness Pop-Up\, Hawk Green Cricket Club. \nFor the serious recovery crowd\, sauna with access to cold plunge. Straightforward\, all-weather outdoor recovery with no spa pretence. \nAll sessions take place in the outdoor sauna tents with access to the chill-out area and cold camping showers.  Please arrive 10 minutes early and bring a towel\, water and warm layers. \nSESSION OPTIONS & PRICING\nChoose from the following times: \n\n18:00-19:00\n\nSauna + UnSupervised Cold Plunge – 60 minutes \nA heat cycle followed by a safe\, guided cold plunge with breath cueing. \n\n£12 Standard Price\nPrivate Sauna £60\n\nLOCATION\nHawk Green Cricket Club\, Marple. \nBOOKING\nUse the booking calendar below to choose your time and session type and request a booking or Whatsapp message Chelsie on 07747462429.  Once your appointment has been accepted you will get an email with details of how to pay and what to bring. \n\n		\n\n			\n			\n				\n										\n						\n					\n					\n						April 2026											\n									\n			\n			\n								Mon\n				Tue\n				Wed\n				Thu\n				Fri\n				Sat				Sun			\n		\n		3031123456789101112131415161718192021222324252627282930123
URL:https://bodybreathmind.life/event/wednesday-recovery-sauna-cold-plunge-2/
LOCATION:Saunas with a View Pop-Up\, Hawk Green Cricket Club\, Hawk Green\, Marple\, Stockport\, United Kingdom
CATEGORIES:Sauna with a View,Winter Wellness Pop Up
ATTACH;FMTTYPE=image/jpeg:https://bodybreathmind.life/wp-content/uploads/2026/01/3324AB5C-39CC-43A4-BD9E-F8A456A97CA9_1_105_c-e1767439921172.jpeg
ORGANIZER;CN="chelsie":MAILTO:chelsie@thefitbreath.com
END:VEVENT
BEGIN:VEVENT
DTSTART;TZID=UTC:20260321T160000
DTEND;TZID=UTC:20260321T190000
DTSTAMP:20260424T165447
CREATED:20260305T120641Z
LAST-MODIFIED:20260305T120927Z
UID:47268-1774108800-1774119600@bodybreathmind.life
SUMMARY:Spring Equinox Reset: HYROX x Breathwork x Contrast Therapy
DESCRIPTION:A one-off collaboration session designed for women who love to push hard and reset properly. \nWe’re blending functional breathing + breathwork + HYROX-style training with a guided recovery experience: sauna rounds\, clay masks/scrubs\, cold plunge\, and reflective integration by the fire with cacao or tea. \nDate: 21 March (Spring Equinox)Spaces: Limited \nWhat to expect\nThis isn’t a “sit and listen” wellness evening. It’s an experience that moves between activation and regulation — training your body\, then guiding your nervous system back to calm. \nYou’ll leave feeling: \n\n\nenergised and clear-headed \n\n\ncalmer in your body \n\n\nrecovered (not depleted) \n\n\nreset for spring \n\n\nAgenda\n1) Functional Breathing Workshop (with breathing mobility)Practical tools to improve breathing mechanics\, efficiency and control. \n2) Energising BreathworkA guided session to lift energy\, sharpen focus and shift state. \n3) HYROX-style training sessionA coached functional fitness block (HYROX-inspired training — you do not need HYROX experience). \n4) Guided recovery rounds: Sauna + cold plungeStructured sauna rounds with clay masks and scrubs\, plus cold plunge (optional\, supported\, and guided). \n5) Intentional reflection + firepit integrationClose with intentional reflection and cacao or herbal tea around the firepit. \nWho it’s for\nPerfect if you: \n\n\nenjoy training (gym / functional fitness / HYROX-style sessions) \n\n\nwant recovery that actually changes how you feel (not just a “treat”) \n\n\nare curious about breathwork but want it grounded and practical \n\n\nwant a spring reset that’s both energising and regulating \n\n\nNot required: elite fitness\, perfect breathing\, or prior breathwork experience. \nBooking\nWhatsapp Chelsie on 07747462429 if you want to book
URL:https://bodybreathmind.life/event/spring-equinox-reset-hyrox-x-breathwork-x-contrast-therapy/
LOCATION:Saunas with a View Pop-Up\, Hawk Green Cricket Club\, Hawk Green\, Marple\, Stockport\, United Kingdom
CATEGORIES:Winter Wellness Pop Up
ATTACH;FMTTYPE=image/jpeg:https://bodybreathmind.life/wp-content/uploads/2026/03/406E159B-0550-43B8-B06E-9B2D8EF7442C_1_105_c-e1772712554496.jpeg
ORGANIZER;CN="chelsie":MAILTO:chelsie@thefitbreath.com
END:VEVENT
BEGIN:VEVENT
DTSTART;TZID=UTC:20260323T063000
DTEND;TZID=UTC:20260323T073000
DTSTAMP:20260424T165447
CREATED:20260120T133130Z
LAST-MODIFIED:20260415T123711Z
UID:47064-1774247400-1774251000@bodybreathmind.life
SUMMARY:Early Morning Weekday Sauna + Cold Plunge
DESCRIPTION:SESSION OPTIONS & PRICING\nSauna + Cold Plunge – 60 minutes \nThis is a session for experienced cold plungers\, there will be no breath-led cueing. If you are new to cold plunging please book one of our supervised sessions. \n\n£12 Standard Weekday Price\nPrivate Individual Sauna Daytime Rate £60 (for whole space private hire please Whatsapp Chelsie on 07747462429)\n\nLOCATION\nThe Wellness Pop Up at Hawk Green Cricket Club\, Marple. On rare occasions you may be offered a private session at the Body Breath & Mind Studio. \nBOOKING\nUse the booking calendar below to choose your time and session type and request a booking or Whatsapp message Chelsie on 07747462429.  If your preferred time isn’t available please whatsapp and we can see what we can do. Once your appointment has been accepted you will get an email with details of how to pay and what to bring. \n\n		\n\n			\n			\n				\n										\n						\n					\n					\n						April 2026											\n									\n			\n			\n								Mon\n				Tue\n				Wed\n				Thu\n				Fri\n				Sat				Sun			\n		\n		3031123456789101112131415161718192021222324252627282930123
URL:https://bodybreathmind.life/event/sauna-sundays-2/
LOCATION:Saunas with a View Pop-Up\, Hawk Green Cricket Club\, Hawk Green\, Marple\, Stockport\, United Kingdom
CATEGORIES:Sauna with a View,Winter Wellness Pop Up
ATTACH;FMTTYPE=image/jpeg:https://bodybreathmind.life/wp-content/uploads/2025/12/8C8D84FB-CC18-43A6-AFB6-8FE918658B54_1_105_c-e1766935311253.jpeg
END:VEVENT
BEGIN:VEVENT
DTSTART;TZID=UTC:20260328T170000
DTEND;TZID=UTC:20260328T200000
DTSTAMP:20260424T165447
CREATED:20250106T130840Z
LAST-MODIFIED:20260305T123238Z
UID:43406-1774717200-1774728000@bodybreathmind.life
SUMMARY:Spring Awakening: The Journey inside- Cacao\, Breathwork\, Sauna
DESCRIPTION:Cleansing and renewal with cacao ceremony and breathwork journey combined with sauna and cold plunge.\n\nOffering a unique opportunity to connect with yourself and nature outside in the heated bell tent. This 3-hour immersive session combines a cacao ceremony\, warm up movement\, followed by an immersive cacao and breath-work journey\, with noise cancelling headphones – designed to allow you to break through layers into stillness.  Followed by sauna and optional cold plunge\, with cleansing spring sauna rituals.\n\n\n\nJournalling\, herbal tea or hot drinks and closing ceremony around the firepit.  You will then be free to go into the sauna with optional cold plunge for a contrast therapy session before you go home.\n\n\n\n*Please note\, this is a longer breathwork journey which starts with stronger breathing and which may not suitable for people with certain medical conditions. Please contact me if you have any questions before booking.\nLocation\n\nThe Bell Tent at the Body Breath and Mind Pop Up at Hawk Green Cricket Club\n\n\n\n\n\n\nWhat to Expect: Participants will leave feeling a renewed sense of clarity and connection to themselves and others. You will walk away with practical tools for introspection and self-care\, along with a deeper appreciation for the natural rhythms of life. Embrace the warmth of community and the nurturing power of winter – your journey towards stillness awaits. \nPricing\n\n£50 per person\n\nBook Your Spot\nUse the calendar below to below to reserve your place. We will confirm your booking via email. Any questions WhatsApp message Chelsie on 077474624/9. \n  \n\n		\n\n			\n			\n				\n										\n						\n					\n					\n						April 2026											\n									\n			\n			\n								Mon\n				Tue\n				Wed\n				Thu\n				Fri\n				Sat				Sun			\n		\n		3031123456789101112131415161718192021222324252627282930123		\n	\n 
URL:https://bodybreathmind.life/event/winter-warmer-event-marple/
LOCATION:Saunas with a View Pop-Up\, Hawk Green Cricket Club\, Hawk Green\, Marple\, Stockport\, United Kingdom
CATEGORIES:Winter Wellness Pop Up
ATTACH;FMTTYPE=image/jpeg:https://bodybreathmind.life/wp-content/uploads/2025/01/90026E3E-8326-4C8B-94DD-FA6C47BEFE37_1_105_c-e1766935453802.jpeg
ORGANIZER;CN="chelsie":MAILTO:chelsie@thefitbreath.com
END:VEVENT
BEGIN:VEVENT
DTSTART;TZID=UTC:20260329T100000
DTEND;TZID=UTC:20260329T160000
DTSTAMP:20260424T165447
CREATED:20251204T171815Z
LAST-MODIFIED:20260223T123737Z
UID:46677-1774778400-1774800000@bodybreathmind.life
SUMMARY:Sauna Sundays
DESCRIPTION:Outdoor Sauna with a View sessions run every Sunday at the Winter Wellness Pop-Up\, Hawk Green Cricket Club. \nChoose from simple heat-only sauna sessions or full contrast sessions in our pop up saunas\, with a supervised cold plunge\, focused on your breath. Straightforward\, all-weather outdoor recovery with no spa pretence. \nAll sessions take place in the outdoor sauna tents with access to the chill-out area and cold camping showers.  Cold plunge sessions will feature fully supervised cold plunges\, alternating with time in the sauna for beneficial contrast therapy. Please arrive 10 minutes early and bring a towel\, water and warm layers. \nSESSION OPTIONS & PRICING\nSauna + Supervised Cold Plunge – 60 minutes \nA heat cycle followed by a safe\, guided cold plunge with breath cueing. \n\n£17 Standard Price\nPrivate Sauna £70\n\nLOCATION\nHawk Green Cricket Club\, Marple. \nBOOKING\nUse the booking calendar below to choose your time and session type and request a booking or Whatsapp message Chelsie on 07747462429.  Once your appointment has been accepted you will get an email with details of how to pay and what to bring. \n\n		\n\n			\n			\n				\n										\n						\n					\n					\n						April 2026											\n									\n			\n			\n								Mon\n				Tue\n				Wed\n				Thu\n				Fri\n				Sat				Sun			\n		\n		3031123456789101112131415161718192021222324252627282930123
URL:https://bodybreathmind.life/event/sauna-sundays-winter-wellness-pop-up/
LOCATION:Saunas with a View Pop-Up\, Hawk Green Cricket Club\, Hawk Green\, Marple\, Stockport\, United Kingdom
CATEGORIES:Sauna with a View,Winter Wellness Pop Up
ATTACH;FMTTYPE=image/jpeg:https://bodybreathmind.life/wp-content/uploads/2025/12/8C8D84FB-CC18-43A6-AFB6-8FE918658B54_1_105_c-e1766935311253.jpeg
ORGANIZER;CN="chelsie":MAILTO:chelsie@thefitbreath.com
END:VEVENT
BEGIN:VEVENT
DTSTART;TZID=UTC:20260329T173000
DTEND;TZID=UTC:20260329T203000
DTSTAMP:20260424T165447
CREATED:20260204T164943Z
LAST-MODIFIED:20260302T174110Z
UID:47150-1774805400-1774816200@bodybreathmind.life
SUMMARY:Breathe\, Sound & Sauna
DESCRIPTION:An Evening Reset\nStep out of your busy head and back into your body with this deeply calming evening experience.  A collaboration with breath & Recovery coach Chelsie White and Kate Kearns\, a skilled sound bath practitioner from Yoga Aura\, this 3-hour session combines\, breathing\, sound and sauna for the ultimate in relaxation. \nHeld at the Body Breath & Mind Pop Up\, the breathwork and sound bath is a back to nature experience and takes place in the heated bell tent\, with time around the firepit and in the outdoor sauna tents under the stars. \nWe begin with guided breathwork to release tension and settle your nervous system\, before moving into a soothing sound bath that supports deep rest and mental clarity. After time to relax with herbal tea and homemade cake\, you’re invited to unwind further in the sauna\, with optional cold exposure for those who enjoy contrast therapy. \nPricing\n£50 per person \nBooking\nUse the calendar below to make your booking or contact Chelsie on 07747462429 with any questions. \n\n		\n\n			\n			\n				\n										\n						\n					\n					\n						April 2026											\n									\n			\n			\n								Mon\n				Tue\n				Wed\n				Thu\n				Fri\n				Sat				Sun			\n		\n		3031123456789101112131415161718192021222324252627282930123
URL:https://bodybreathmind.life/event/breathe-sound-sauna/
LOCATION:Saunas with a View Pop-Up\, Hawk Green Cricket Club\, Hawk Green\, Marple\, Stockport\, United Kingdom
CATEGORIES:Body Breath & Mind Experiences,Winter Wellness Pop Up
ATTACH;FMTTYPE=image/jpeg:https://bodybreathmind.life/wp-content/uploads/2026/02/D7CDC5A5-C997-4F4D-901B-6AF68E44EABF_1_105_c-e1771860142417.jpeg
ORGANIZER;CN="chelsie":MAILTO:chelsie@thefitbreath.com
END:VEVENT
END:VCALENDAR