BEGIN:VCALENDAR
VERSION:2.0
PRODID:-//Body Breath &amp; Mind - ECPv6.15.20//NONSGML v1.0//EN
CALSCALE:GREGORIAN
METHOD:PUBLISH
X-WR-CALNAME:Body Breath &amp; Mind
X-ORIGINAL-URL:https://bodybreathmind.life
X-WR-CALDESC:Events for Body Breath &amp; Mind
REFRESH-INTERVAL;VALUE=DURATION:PT1H
X-Robots-Tag:noindex
X-PUBLISHED-TTL:PT1H
BEGIN:VTIMEZONE
TZID:UTC
BEGIN:STANDARD
TZOFFSETFROM:+0000
TZOFFSETTO:+0000
TZNAME:UTC
DTSTART:20240101T000000
END:STANDARD
END:VTIMEZONE
BEGIN:VEVENT
DTSTART;TZID=UTC:20251125T080000
DTEND;TZID=UTC:20251125T170000
DTSTAMP:20260425T005903
CREATED:20251029T174215Z
LAST-MODIFIED:20251111T114110Z
UID:45833-1764057600-1764090000@bodybreathmind.life
SUMMARY:Move Breathe Relax - Private Bookings
DESCRIPTION:A calming 90-minute private wellbeing session that includes gentle movement\, guided breathwork\, sauna\, cold plunge\, and hammock relaxation. Designed to reset your nervous system and leave you feeling grounded and restored.  Read more here. \nThis is a private session available Monday to Thursday – date shown is for listing purposes only. \nPrice: £60 weekday / £75 weekday evenings /£85 Friday evening or early weekday morning (before 9am) \nWhatsapp message Chelsie to book for for more details and up to date availability on 07747462429
URL:https://bodybreathmind.life/event/move-breathe-relax/
LOCATION:Body Breath & Mind Studio\, Hawk Green\, Stockport\, Greater Manchester\, United Kingdom
CATEGORIES:Body Breath & Mind Experiences,Her Longevity Lifestyle,In-Person session,TheFitBreath
ATTACH;FMTTYPE=image/png:https://bodybreathmind.life/wp-content/uploads/2025/05/1-1.png
ORGANIZER;CN="chelsie":MAILTO:chelsie@thefitbreath.com
END:VEVENT
END:VCALENDAR