BEGIN:VCALENDAR
VERSION:2.0
PRODID:-//Body Breath &amp; Mind - ECPv6.15.20//NONSGML v1.0//EN
CALSCALE:GREGORIAN
METHOD:PUBLISH
X-WR-CALNAME:Body Breath &amp; Mind
X-ORIGINAL-URL:https://bodybreathmind.life
X-WR-CALDESC:Events for Body Breath &amp; Mind
REFRESH-INTERVAL;VALUE=DURATION:PT1H
X-Robots-Tag:noindex
X-PUBLISHED-TTL:PT1H
BEGIN:VTIMEZONE
TZID:UTC
BEGIN:STANDARD
TZOFFSETFROM:+0000
TZOFFSETTO:+0000
TZNAME:UTC
DTSTART:20240101T000000
END:STANDARD
END:VTIMEZONE
BEGIN:VEVENT
DTSTART;TZID=UTC:20250215T090000
DTEND;TZID=UTC:20250222T103000
DTSTAMP:20260425T023121
CREATED:20250106T130826Z
LAST-MODIFIED:20250217T124312Z
UID:43410-1739610000-1740220200@bodybreathmind.life
SUMMARY:Energise & Cleanse Experience\, Marple
DESCRIPTION:Energising & Cleansing Exercise & Breathing Experience\nThis bi-monthly transformative session combines functional breathing techniques\, energising exercise\, and cleansing breath-work to help you feel rejuvenated\, balanced\, and energised. Set in a small group (maximum 4 participants)\, you’ll receive personalised attention throughout the session\, allowing you to connect deeply with your body and breath.  This experience can also be booked as a private session\, at a flexible time to suit you. \nWhat You’ll Experience:\n\nA unique blend of functional breathing and exercise that enhances your fitness while optimising your breath for better movement and energy.\nBreath-work to promote energy and cleansing and a clear mind.\nOptional recovery add-on: After the class\, experience the combined benefits of cold and heat therapy with a Garden Tent Sauna and Ice Baths to promote muscle recovery\, detoxify\, and restore balance to your body.\nIncludes refreshments.\n\nWhy Join?\n\nEnergy & Vitality: By focusing on your breath and body\, you’ll leave the class feeling energised\, grounded\, and ready to take on the rest of the weekend.\nHolistic Well-being: This class combines movement\, breath-work\, and recovery therapy to create a powerful\, all-in-one experience that boosts both physical energy and mental clarity.\nFunctional Breathing: Learn how to optimise your breath to support better performance\, recovery\, and stress management.\nSmall Group Setting: With a maximum of 4 participants\, you’ll receive individualised attention and enjoy a more personalised experience.\nStress Relief & Relaxation: Combining exercise and breathwork with the contrast therapy of the sauna and cold plunge\, offer a unique opportunity to relieve muscle tension\, reduce inflammation\, and restore calm.\n\nPricing\n\n\n\n£25 per person (min 3 people to run)\n£80 Private Sessions (max 4 people)*\n\n\n\nBook Your Spot\nFill out the form below to reserve your place. We will confirm your booking via email \n*All private sessions can be ‘pimped’ up to a more immersive 2.5-3 hour £150.  We also offer ‘Build your own Experience’ with flexible dates to suit you and your group. Whatsapp message +447747462429 or enquire here. \nBook Your Spot \nRequest to book via the calendar below. We will confirm your booking once accepted via email. \n\n		\n\n			\n			\n				\n										\n						\n					\n					\n						April 2026											\n									\n			\n			\n								Mon\n				Tue\n				Wed\n				Thu\n				Fri\n				Sat				Sun			\n		\n		3031123456789101112131415161718192021222324252627282930123
URL:https://bodybreathmind.life/event/energise-cleanse-marple/
LOCATION:Body Breath & Mind Studio\, Hawk Green\, Stockport\, Greater Manchester\, United Kingdom
CATEGORIES:Body Breath & Mind Experiences,Her Longevity Lifestyle,In-Person session,TheFitBreath
ATTACH;FMTTYPE=image/png:https://bodybreathmind.life/wp-content/uploads/2020/04/12.png
ORGANIZER;CN="chelsie":MAILTO:chelsie@thefitbreath.com
END:VEVENT
END:VCALENDAR