BEGIN:VCALENDAR
VERSION:2.0
PRODID:-//Body Breath &amp; Mind - ECPv6.15.20//NONSGML v1.0//EN
CALSCALE:GREGORIAN
METHOD:PUBLISH
X-WR-CALNAME:Body Breath &amp; Mind
X-ORIGINAL-URL:https://bodybreathmind.life
X-WR-CALDESC:Events for Body Breath &amp; Mind
REFRESH-INTERVAL;VALUE=DURATION:PT1H
X-Robots-Tag:noindex
X-PUBLISHED-TTL:PT1H
BEGIN:VTIMEZONE
TZID:UTC
BEGIN:STANDARD
TZOFFSETFROM:+0000
TZOFFSETTO:+0000
TZNAME:UTC
DTSTART:20250101T000000
END:STANDARD
END:VTIMEZONE
BEGIN:VEVENT
DTSTART;TZID=UTC:20260424T063000
DTEND;TZID=UTC:20260424T073000
DTSTAMP:20260424T142326
CREATED:20260415T131208Z
LAST-MODIFIED:20260416T061850Z
UID:47533-1777012200-1777015800@bodybreathmind.life
SUMMARY:Early Morning Outdoor Circuits & Contrast - Fridays
DESCRIPTION:Outdoor Sauna with a View wake-up sessions  at the Wellness Pop-Up\, Hawk Green Cricket Club. \nSimple outdoor circuits followed by Wood-fired sauna with access to cold plunge. Straightforward\, all-weather outdoor recovery with no spa pretence. \nAll sessions take place outside and in the outdoor sauna tents with access to the chill-out area and cold camping showers.  Please arrive 10 minutes early and bring a towel\, water and warm layers. \nThis is a session with unsupervised breath-led cold plunging\, so is not suitable for inexperienced cold plungers \n\n\n\nLOCATION\nHawk Green Cricket Club\, Marple. \nBOOKING\nUse the booking calendar below to choose your time and session type and request a booking or Whatsapp message Chelsie on 07747462429.  Once your appointment has been accepted you will get an email with details of how to pay and what to bring. \n\n		\n\n			\n			\n				\n										\n						\n					\n					\n						April 2026											\n									\n			\n			\n								Mon\n				Tue\n				Wed\n				Thu\n				Fri\n				Sat				Sun			\n		\n		3031123456789101112131415161718192021222324252627282930123
URL:https://bodybreathmind.life/event/early-morning-outdoor-circuits-contrast-fridays/
LOCATION:Saunas with a View Pop-Up\, Hawk Green Cricket Club\, Hawk Green\, Marple\, Stockport\, United Kingdom
CATEGORIES:Sauna with a View,Winter Wellness Pop Up
ATTACH;FMTTYPE=image/jpeg:https://bodybreathmind.life/wp-content/uploads/2020/04/PHOTO-2025-02-03-14-18-55-e1776258696323.jpg
END:VEVENT
BEGIN:VEVENT
DTSTART;TZID=UTC:20260425T090000
DTEND;TZID=UTC:20260425T100000
DTSTAMP:20260424T142326
CREATED:20260211T155642Z
LAST-MODIFIED:20260414T174413Z
UID:47184-1777107600-1777111200@bodybreathmind.life
SUMMARY:Saturday Sauna
DESCRIPTION:SESSION OPTIONS & PRICING\nSauna + Supervised Cold Plunge – 60 minutes \nA heat cycle followed by a safe\, guided cold plunge with breath cueing. \n\n£15 Standard Price\nPrivate Individual Sauna Daytime Rate £70 (for whole space private hire please Whatsapp Chelsie on 07747462429)\n\nLOCATION\nThe Winter Wellness Pop Up at Hawk Green Cricket Club\, Marple. On rare occasions you may be offered a private session at the Body Breath & Mind Studio. \nBOOKING\nUse the booking calendar below to choose your time and session type and request a booking or Whatsapp message Chelsie on 07747462429.  If your preferred time isn’t available please whatsapp and we can see what we can do. Once your appointment has been accepted you will get an email with details of how to pay and what to bring. \n\n		\n\n			\n			\n				\n										\n						\n					\n					\n						April 2026											\n									\n			\n			\n								Mon\n				Tue\n				Wed\n				Thu\n				Fri\n				Sat				Sun			\n		\n		3031123456789101112131415161718192021222324252627282930123
URL:https://bodybreathmind.life/event/sunday-saunas/
LOCATION:Saunas with a View Pop-Up\, Hawk Green Cricket Club\, Hawk Green\, Marple\, Stockport\, United Kingdom
CATEGORIES:Sauna with a View,Winter Wellness Pop Up
ATTACH;FMTTYPE=image/jpeg:https://bodybreathmind.life/wp-content/uploads/2025/12/8C8D84FB-CC18-43A6-AFB6-8FE918658B54_1_105_c-e1766935311253.jpeg
ORGANIZER;CN="chelsie":MAILTO:chelsie@thefitbreath.com
END:VEVENT
END:VCALENDAR