BEGIN:VCALENDAR
VERSION:2.0
PRODID:-//Body Breath &amp; Mind - ECPv6.15.20//NONSGML v1.0//EN
CALSCALE:GREGORIAN
METHOD:PUBLISH
X-ORIGINAL-URL:https://bodybreathmind.life
X-WR-CALDESC:Events for Body Breath &amp; Mind
REFRESH-INTERVAL;VALUE=DURATION:PT1H
X-Robots-Tag:noindex
X-PUBLISHED-TTL:PT1H
BEGIN:VTIMEZONE
TZID:UTC
BEGIN:STANDARD
TZOFFSETFROM:+0000
TZOFFSETTO:+0000
TZNAME:UTC
DTSTART:20250101T000000
END:STANDARD
END:VTIMEZONE
BEGIN:VEVENT
DTSTART;TZID=UTC:20260323T063000
DTEND;TZID=UTC:20260323T073000
DTSTAMP:20260424T192458
CREATED:20260120T133130Z
LAST-MODIFIED:20260415T123711Z
UID:47064-1774247400-1774251000@bodybreathmind.life
SUMMARY:Early Morning Weekday Sauna + Cold Plunge
DESCRIPTION:SESSION OPTIONS & PRICING\nSauna + Cold Plunge – 60 minutes \nThis is a session for experienced cold plungers\, there will be no breath-led cueing. If you are new to cold plunging please book one of our supervised sessions. \n\n£12 Standard Weekday Price\nPrivate Individual Sauna Daytime Rate £60 (for whole space private hire please Whatsapp Chelsie on 07747462429)\n\nLOCATION\nThe Wellness Pop Up at Hawk Green Cricket Club\, Marple. On rare occasions you may be offered a private session at the Body Breath & Mind Studio. \nBOOKING\nUse the booking calendar below to choose your time and session type and request a booking or Whatsapp message Chelsie on 07747462429.  If your preferred time isn’t available please whatsapp and we can see what we can do. Once your appointment has been accepted you will get an email with details of how to pay and what to bring. \n\n		\n\n			\n			\n				\n										\n						\n					\n					\n						April 2026											\n									\n			\n			\n								Mon\n				Tue\n				Wed\n				Thu\n				Fri\n				Sat				Sun			\n		\n		3031123456789101112131415161718192021222324252627282930123
URL:https://bodybreathmind.life/event/sauna-sundays-2/
LOCATION:Saunas with a View Pop-Up\, Hawk Green Cricket Club\, Hawk Green\, Marple\, Stockport\, United Kingdom
CATEGORIES:Sauna with a View,Winter Wellness Pop Up
ATTACH;FMTTYPE=image/jpeg:https://bodybreathmind.life/wp-content/uploads/2025/12/8C8D84FB-CC18-43A6-AFB6-8FE918658B54_1_105_c-e1766935311253.jpeg
END:VEVENT
END:VCALENDAR