BEGIN:VCALENDAR
VERSION:2.0
PRODID:-//Body Breath &amp; Mind - ECPv6.15.20//NONSGML v1.0//EN
CALSCALE:GREGORIAN
METHOD:PUBLISH
X-WR-CALNAME:Body Breath &amp; Mind
X-ORIGINAL-URL:https://bodybreathmind.life
X-WR-CALDESC:Events for Body Breath &amp; Mind
REFRESH-INTERVAL;VALUE=DURATION:PT1H
X-Robots-Tag:noindex
X-PUBLISHED-TTL:PT1H
BEGIN:VTIMEZONE
TZID:UTC
BEGIN:STANDARD
TZOFFSETFROM:+0000
TZOFFSETTO:+0000
TZNAME:UTC
DTSTART:20250101T000000
END:STANDARD
END:VTIMEZONE
BEGIN:VEVENT
DTSTART;TZID=UTC:20260117T170000
DTEND;TZID=UTC:20260117T200000
DTSTAMP:20260424T191225
CREATED:20251227T181801Z
LAST-MODIFIED:20260106T153843Z
UID:46835-1768669200-1768680000@bodybreathmind.life
SUMMARY:Fireside Sauna Sessions
DESCRIPTION:Outdoor Sauna & Cold Plunge | Evening Sessions \nFireside Sauna Sessions run on Saturday late afternoon/evenings throughout January\, at the Winter Wellness Pop-Up at Hawk Green Cricket Club. \nThese are relaxed\, fire-lit evening sauna sessions designed to help you unwind\, for active recovery and socialising. Sessions are simple and unhurried\, with access to the outdoor sauna tents\, chill-out area and cold plunge\, focusing on heat\, cold and your breath\, no spa pretence. \nAll sessions take place outdoors in the pop-up sauna tents\, with supervised cold plunges available during each session. The fire stays lit throughout the evening\, creating a calm\, social atmosphere without formal facilitation and the bell tent will also be open for you to relax in. \nPlease arrive 10 minutes early and bring a towel\, water and warm layers. \nSession Details\nFireside Sauna Session – 60 minutesOutdoor sauna session with access to the chill-out area and supervised cold plunge. \nPricing\n\n£20 per person public session\n£18 per person concessions – hawk green cricket club members\, secret sauna club subscribers\, local hawk green residents\, men outdoors participants and those on benefits.\nHire the whole venue privately for £160 for up to 8 people (saunas\, firepit\, supervised cold plunges – breathwork or other extas at additional cost)\nHire one sauna privately for up to 4/5 people for £80\n\nImportant Notes \n\n\nThese are evening sauna sessions\, not guided breathwork or movement classes \n\n\nCold plunge is always optional \n\nSession spaces are limited by sauna capacity\n\nAdvance booking is recommended \n\n\nLocation\nHawk Green Cricket Club\, Marple. \nBooking\nUse the booking calendar below to choose your time and session type and request a booking or Whatsapp message Chelsie on 07747462429.  Once your appointment has been accepted you will get an email with details of how to pay and what to bring. \n\n		\n\n			\n			\n				\n										\n						\n					\n					\n						April 2026											\n									\n			\n			\n								Mon\n				Tue\n				Wed\n				Thu\n				Fri\n				Sat				Sun			\n		\n		3031123456789101112131415161718192021222324252627282930123
URL:https://bodybreathmind.life/event/fireside-sauna-saturday-session/
CATEGORIES:Winter Wellness Pop Up
ATTACH;FMTTYPE=image/jpeg:https://bodybreathmind.life/wp-content/uploads/2025/12/C5848F29-C084-4C69-99DE-731B35453743_1_105_c-e1766935629681.jpeg
END:VEVENT
BEGIN:VEVENT
DTSTART;TZID=UTC:20260124T153000
DTEND;TZID=UTC:20260124T163000
DTSTAMP:20260424T191225
CREATED:20251227T172142Z
LAST-MODIFIED:20260115T152307Z
UID:46831-1769268600-1769272200@bodybreathmind.life
SUMMARY:Winter Wellness Mini Taster Sessions
DESCRIPTION:Curious about sauna\, cold plunge and/or breathwork\, but not ready to commit to a full event? \nAfter the popularity of our initial mini taster sessions we’re running an additional session as part of the Winter Wellness Pop-Up schedule. \nEach session lasts 60 minutes and is limited to 8 people to ensure a calm\, safe and unhurried experience. \nSession times:15:30-16:30 \nPlease select one session time when booking. \nThese sessions include guided breathwork\, sauna and the option to try cold water immersion. Cold plunge is always optional\, and you’re free to move at your own pace throughout the session. \nSpaces are limited due to sauna capacity and booking in advance is essential. \nIntroductory price: £15 \nThese sessions are designed as a gentle introduction and are not full Recovery Night Out events \nLOCATIONHawk Green Cricket Club\, Marple. \nBOOKINGUse the booking calendar below to choose your time and session type and request a booking or Whatsapp message Chelsie on 07747462429.  Once your appointment has been accepted you will get an email with details of how to pay and what to bring. \n\n		\n\n			\n			\n				\n										\n						\n					\n					\n						April 2026											\n									\n			\n			\n								Mon\n				Tue\n				Wed\n				Thu\n				Fri\n				Sat				Sun			\n		\n		3031123456789101112131415161718192021222324252627282930123
URL:https://bodybreathmind.life/event/winter-wellness-mini-taster-sessions/
LOCATION:Saunas with a View Pop-Up\, Hawk Green Cricket Club\, Hawk Green\, Marple\, Stockport\, United Kingdom
CATEGORIES:Winter Wellness Pop Up
ATTACH;FMTTYPE=image/jpeg:https://bodybreathmind.life/wp-content/uploads/2025/12/B4820D59-0095-428C-8DEA-EACD13596125_1_105_c-e1766935548382.jpeg
ORGANIZER;CN="chelsie":MAILTO:chelsie@thefitbreath.com
END:VEVENT
BEGIN:VEVENT
DTSTART;TZID=UTC:20260124T170000
DTEND;TZID=UTC:20260124T200000
DTSTAMP:20260424T191225
CREATED:20251228T143517Z
LAST-MODIFIED:20260120T124120Z
UID:46850-1769274000-1769284800@bodybreathmind.life
SUMMARY:Fireside Sauna Sessions
DESCRIPTION:Outdoor Sauna & Cold Plunge | Evening Sessions \nFireside Sauna Sessions run on Saturday late afternoon/evenings\, at the Winter Wellness Pop-Up at Hawk Green Cricket Club. \nThese are relaxed\, fire-lit evening sauna sessions designed to help you unwind\, for active recovery and socialising. Sessions are simple and unhurried\, with access to the outdoor sauna tents\, chill-out area and cold plunge\, focusing on heat\, cold and your breath\, no spa pretence. \nAll sessions take place outdoors in the pop-up sauna tents\, with supervised cold plunges available during each session. The fire stays lit throughout the evening\, creating a calm\, social atmosphere without formal facilitation and the bell tent will also be open for you to relax in. \nPlease arrive 10 minutes early and bring a towel\, water and warm layers. \nSession Details\nFireside Sauna Session – 60 minutesOutdoor sauna session with access to the chill-out area and supervised cold plunge. \nPricing\n\n£20 per person public session.\nHire the whole venue privately for £180 for up to 8 people (saunas\, firepit\, supervised cold plunges – breathwork or other extas at additional cost) – please Whatsapp Message me 07747462429 before booking.\nHire individual saunas for you and up to 4 friends for private use. £60 per sauna. – Please Whatsapp message me 07747462429 before booking.\n\nImportant Notes \n\n\nThese are evening sauna sessions\, not guided breathwork or movement classes \n\n\nCold plunge is always optional \n\nSession spaces are limited by sauna capacity\n\nAdvance booking is recommended \n\n\nLocation\nHawk Green Cricket Club\, Marple. \nBooking\nUse the booking calendar below to choose your time and session type and request a booking or Whatsapp message Chelsie on 07747462429.  Once your appointment has been accepted you will get an email with details of how to pay and what to bring. \n\n		\n\n			\n			\n				\n										\n						\n					\n					\n						April 2026											\n									\n			\n			\n								Mon\n				Tue\n				Wed\n				Thu\n				Fri\n				Sat				Sun			\n		\n		3031123456789101112131415161718192021222324252627282930123
URL:https://bodybreathmind.life/event/fireside-sauna-saturday-session-2/
LOCATION:Saunas with a View Pop-Up\, Hawk Green Cricket Club\, Hawk Green\, Marple\, Stockport\, United Kingdom
CATEGORIES:Winter Wellness Pop Up
ATTACH;FMTTYPE=image/jpeg:https://bodybreathmind.life/wp-content/uploads/2025/12/C5848F29-C084-4C69-99DE-731B35453743_1_105_c-e1766935629681.jpeg
ORGANIZER;CN="chelsie":MAILTO:chelsie@thefitbreath.com
END:VEVENT
END:VCALENDAR