BEGIN:VCALENDAR
VERSION:2.0
PRODID:-//Body Breath &amp; Mind - ECPv6.15.20//NONSGML v1.0//EN
CALSCALE:GREGORIAN
METHOD:PUBLISH
X-WR-CALNAME:Body Breath &amp; Mind
X-ORIGINAL-URL:https://bodybreathmind.life
X-WR-CALDESC:Events for Body Breath &amp; Mind
REFRESH-INTERVAL;VALUE=DURATION:PT1H
X-Robots-Tag:noindex
X-PUBLISHED-TTL:PT1H
BEGIN:VTIMEZONE
TZID:UTC
BEGIN:STANDARD
TZOFFSETFROM:+0000
TZOFFSETTO:+0000
TZNAME:UTC
DTSTART:20250101T000000
END:STANDARD
END:VTIMEZONE
BEGIN:VEVENT
DTSTART;TZID=UTC:20260503T190000
DTEND;TZID=UTC:20260503T203000
DTSTAMP:20260424T141426
CREATED:20260119T182025Z
LAST-MODIFIED:20260409T120140Z
UID:47027-1777834800-1777840200@bodybreathmind.life
SUMMARY:Move Breathe Relax
DESCRIPTION:Move  Breathe  Relax is the signature end-of-week relaxation and recovery session  \nA structured 90 minute experience blending breath-work\, simple movement\, sauna heat cycles\, supervised cold plunge and time around the fire-pit. Designed to reset your nervous system\, clear your head and prepare you for the week ahead. \nThis is not a drop-in sauna session. It is a guided recovery class combining movement\, breath and contrast therapy as one process. \nWhat’s Included\n\nSimple breath-led movement\, mobility stretching\nBreathwork integration\nOutdoor sauna heat cycles\nSupervised cold plunge (optional)\nChill-out area and cold camping showers\nHerbal tea\n\nPricing\nStandard Price: £30 \nLocation & Minimum Numbers\nMove • Breathe • Relax runs Sunday as the final session of the day. \n5 or more bookings:Runs at Hawk Green Cricket Club in the heated bell tent with sauna tents\, cold plunge and firepit. \n2–4 bookings:Runs at the home studio setup (breathwork\, movement\, sauna\, optional cold). You will be notified 24 hours before. \nOnly 1 bookingSession cancelled or you may upgrade to a private session. \nPrivate Alternative\nIf you prefer a one-to-one or small-group version of this session\, private Move • Breathe • Relax sessions are available at the studio.  Please enquire for pricing and availability. \nBooking\nUse the booking calendar below to reserve your space. \nLocations\nHawk Green Cricket Club\, MarpleorBody Breath & Mind Home Studio (address provided upon confirmation) \nRequest to Book\nUse the booking calendar below to choose your time and session type and request a booking or Whatsapp message Chelsie on 07747462429.  Once your appointment has been accepted you will get an email with details of how to pay and what to bring. \n\n		\n\n			\n			\n				\n										\n						\n					\n					\n						April 2026											\n									\n			\n			\n								Mon\n				Tue\n				Wed\n				Thu\n				Fri\n				Sat				Sun			\n		\n		3031123456789101112131415161718192021222324252627282930123
URL:https://bodybreathmind.life/event/move-breathe-relax-3/
LOCATION:Saunas with a View Pop-Up\, Hawk Green Cricket Club\, Hawk Green\, Marple\, Stockport\, United Kingdom
CATEGORIES:Winter Wellness Pop Up
ATTACH;FMTTYPE=image/jpeg:https://bodybreathmind.life/wp-content/uploads/2025/12/3337CD87-BCBA-4E10-B4FF-E3133A38274C_1_105_c-e1766935395136.jpeg
ORGANIZER;CN="chelsie":MAILTO:chelsie@thefitbreath.com
END:VEVENT
END:VCALENDAR