BEGIN:VCALENDAR
VERSION:2.0
PRODID:-//Body Breath &amp; Mind - ECPv6.15.20//NONSGML v1.0//EN
CALSCALE:GREGORIAN
METHOD:PUBLISH
X-WR-CALNAME:Body Breath &amp; Mind
X-ORIGINAL-URL:https://bodybreathmind.life
X-WR-CALDESC:Events for Body Breath &amp; Mind
REFRESH-INTERVAL;VALUE=DURATION:PT1H
X-Robots-Tag:noindex
X-PUBLISHED-TTL:PT1H
BEGIN:VTIMEZONE
TZID:UTC
BEGIN:STANDARD
TZOFFSETFROM:+0000
TZOFFSETTO:+0000
TZNAME:UTC
DTSTART:20240101T000000
END:STANDARD
END:VTIMEZONE
BEGIN:VEVENT
DTSTART;TZID=UTC:20251224T164500
DTEND;TZID=UTC:20251224T190000
DTSTAMP:20260424T234333
CREATED:20251216T122341Z
LAST-MODIFIED:20251217T131057Z
UID:46782-1766594700-1766602800@bodybreathmind.life
SUMMARY:Christmas Br-Eve
DESCRIPTION:Christmas Br-Eve – A Winter Breather\nStep away from the Christmas chaos and spend a couple of hours outdoors\, slowing down before the festivities begin. \nThis two-hour Winter Wellness session is designed for those who crave fresh air\, firelight and space to breathe at this time of year. You’ll share warming cacao around the fire\, move gently to ease the body\, settle the nervous system with simple breathwork\, and enjoy optional sauna and cold plunge under the winter sky. \nThere’s no pressure to do everything — come as you are\, take what you need\, and leave feeling calmer\, clearer and more grounded as you head into Christmas. \nPlease note that if less than 4 people book the event will be held at the Body Breath & Mind Studio at hawk green rather than the Winter Wellness Pop Up.  There is also access to firepit\, sauna\, cold plunges at the studio. \nPricing\n£37.50 per person \n£35.00 Concessions\, Hawk Green Cricket Club Members or The Secret Sauna Club Subscribers \nTo book Whatsapp Chelsie on 07747462429 or request via the calendar below:
URL:https://bodybreathmind.life/event/christmas-br-eve/
LOCATION:Saunas with a View Pop-Up\, Hawk Green Cricket Club\, Hawk Green\, Marple\, Stockport\, United Kingdom
CATEGORIES:Winter Wellness Pop Up
ATTACH;FMTTYPE=image/png:https://bodybreathmind.life/wp-content/uploads/2025/12/Private-wellbeing-Flyers-A4-4.pdf-1.png
END:VEVENT
END:VCALENDAR