BEGIN:VCALENDAR
VERSION:2.0
PRODID:-//Body Breath &amp; Mind - ECPv6.15.20//NONSGML v1.0//EN
CALSCALE:GREGORIAN
METHOD:PUBLISH
X-ORIGINAL-URL:https://bodybreathmind.life
X-WR-CALDESC:Events for Body Breath &amp; Mind
REFRESH-INTERVAL;VALUE=DURATION:PT1H
X-Robots-Tag:noindex
X-PUBLISHED-TTL:PT1H
BEGIN:VTIMEZONE
TZID:UTC
BEGIN:STANDARD
TZOFFSETFROM:+0000
TZOFFSETTO:+0000
TZNAME:UTC
DTSTART:20250101T000000
END:STANDARD
END:VTIMEZONE
BEGIN:VEVENT
DTSTART;TZID=UTC:20260204T080000
DTEND;TZID=UTC:20260204T170000
DTSTAMP:20260424T180759
CREATED:20260223T122616Z
LAST-MODIFIED:20260223T124051Z
UID:47219-1770192000-1770224400@bodybreathmind.life
SUMMARY:Wednesday Recovery (Sauna and cold Plunge)
DESCRIPTION:Outdoor Sauna with a View Wednesday Recovery sessions run every Wednesday at the Wellness Pop-Up\, Hawk Green Cricket Club. \nFor the serious recovery crowd\, sauna with access to cold plunge. Straightforward\, all-weather outdoor recovery with no spa pretence. \nAll sessions take place in the outdoor sauna tents with access to the chill-out area and cold camping showers.  Please arrive 10 minutes early and bring a towel\, water and warm layers. \nSESSION OPTIONS & PRICING\nChoose from the following times: \n\n18:00-19:00\n19:30-20:30\n\nSauna + UnSupervised Cold Plunge – 60 minutes \nA heat cycle followed by a safe\, guided cold plunge with breath cueing. \n\n£12 Standard Price\nPrivate Sauna £60\n\nLOCATION\nHawk Green Cricket Club\, Marple. \nBOOKING\nUse the booking calendar below to choose your time and session type and request a booking or Whatsapp message Chelsie on 07747462429.  Once your appointment has been accepted you will get an email with details of how to pay and what to bring. \n\n		\n\n			\n			\n				\n										\n						\n					\n					\n						April 2026											\n									\n			\n			\n								Mon\n				Tue\n				Wed\n				Thu\n				Fri\n				Sat				Sun			\n		\n		3031123456789101112131415161718192021222324252627282930123
URL:https://bodybreathmind.life/event/wednesday-recovery-sauna-and-cold-plunge/
LOCATION:Saunas with a View Pop-Up\, Hawk Green Cricket Club\, Hawk Green\, Marple\, Stockport\, United Kingdom
CATEGORIES:Sauna with a View,Winter Wellness Pop Up
ATTACH;FMTTYPE=image/jpeg:https://bodybreathmind.life/wp-content/uploads/2026/01/3324AB5C-39CC-43A4-BD9E-F8A456A97CA9_1_105_c-e1767439921172.jpeg
ORGANIZER;CN="chelsie":MAILTO:chelsie@thefitbreath.com
END:VEVENT
BEGIN:VEVENT
DTSTART;TZID=UTC:20260207T170000
DTEND;TZID=UTC:20260207T180000
DTSTAMP:20260424T180759
CREATED:20260120T124425Z
LAST-MODIFIED:20260120T124514Z
UID:47045-1770483600-1770487200@bodybreathmind.life
SUMMARY:Fireside Sauna Sessions
DESCRIPTION:Outdoor Sauna & Cold Plunge | Evening Sessions \nFireside Sauna Sessions run on Saturday late afternoon/evenings\, at the Winter Wellness Pop-Up at Hawk Green Cricket Club. \nThese are relaxed\, fire-lit evening sauna sessions designed to help you unwind\, for active recovery and socialising. Sessions are simple and unhurried\, with access to the outdoor sauna tents\, chill-out area and cold plunge\, focusing on heat\, cold and your breath\, no spa pretence. \nAll sessions take place outdoors in the pop-up sauna tents\, with supervised cold plunges available during each session. The fire stays lit throughout the evening\, creating a calm\, social atmosphere without formal facilitation and the bell tent will also be open for you to relax in. \nPlease arrive 10 minutes early and bring a towel\, water and warm layers. \nSession Details\nFireside Sauna Session – 60 minutesOutdoor sauna session with access to the chill-out area and supervised cold plunge. \nPricing\n\n£20 per person public session.\nHire the whole venue privately for £170 for up to 8 people (saunas\, firepit\, supervised cold plunges – breathwork or other extas at additional cost) – please Whatsapp Message me 07747462429 before booking so we can get a\nHire individual saunas for you and up to 4 friends £85 per sauna. – Please Whatsapp message me 07747462429 before booking.\n\nImportant Notes \n\n\nThese are evening sauna sessions\, not guided breathwork or movement classes \n\n\nCold plunge is always optional \n\nSession spaces are limited by sauna capacity\n\nAdvance booking is recommended \n\n\nLocation\nHawk Green Cricket Club\, Marple. \nBooking\nUse the booking calendar below to choose your time and session type and request a booking or Whatsapp message Chelsie on 07747462429.  Once your appointment has been accepted you will get an email with details of how to pay and what to bring. \n\n		\n\n			\n			\n				\n										\n						\n					\n					\n						April 2026											\n									\n			\n			\n								Mon\n				Tue\n				Wed\n				Thu\n				Fri\n				Sat				Sun			\n		\n		3031123456789101112131415161718192021222324252627282930123
URL:https://bodybreathmind.life/event/fireside-sauna-sessions/
LOCATION:Saunas with a View Pop-Up\, Hawk Green Cricket Club\, Hawk Green\, Marple\, Stockport\, United Kingdom
CATEGORIES:Winter Wellness Pop Up
ATTACH;FMTTYPE=image/jpeg:https://bodybreathmind.life/wp-content/uploads/2026/01/9FEA9335-BB57-47B7-9525-B66B83839830_1_105_c-e1768850107596.jpeg
END:VEVENT
BEGIN:VEVENT
DTSTART;TZID=UTC:20260214T170000
DTEND;TZID=UTC:20260214T203000
DTSTAMP:20260424T180759
CREATED:20260119T191516Z
LAST-MODIFIED:20260119T191916Z
UID:47032-1771088400-1771101000@bodybreathmind.life
SUMMARY:Valentine’s Fireside Sauna Experience
DESCRIPTION:The ultimate date night with a difference – Valentines edition. \nThis is a relaxed\, fireside evening designed for couples who want to slow down\, warm up and share something a little more meaningful than dinner and drinks. \nSet outdoors at the Winter Wellness Pop-Up\, the experience blends private sauna time\, optional cold water\, traditional sauna rituals and a cosy fireside wind-down in the bell tent. \nNo group exercises.No awkward sharing.Just space\, warmth and time together. \nHow the evening flows\nArrival & orientationYou’ll be welcomed to the pop-up and shown to your private sauna. Each couple has their own sauna for the session. \nSauna & contrast (approx. 60 mins) \n\n\nPrivate sauna rounds \n\n\nOptional cold plunge or cold exposure (guided and staggered) \n\n\nTime by the fire between rounds \n\n\nTraditional sauna elements such as scrubs and/or gentle whisk rituals \n\n\nCalm guidance throughout — no pressure\, no pushing \n\n\nYou can change and keep your belongings in your sauna throughout. \nFireside wind-down (approx. 30 mins)After your final sauna\, you’ll move into the candle-lit bell tent to warm up and relax. \nEach couple has their own space with floor cushions\, blankets and low lighting.Warm drinks\, cacao chocolates and a small homemade treat are provided. \nWhat’s included\n\n\nPrivate sauna for each couple \n\n\nOutdoor firepit setting \n\n\nOptional supervised cold water exposure (one couple at a time) \n\nSauna scent\nSauna hats\n\nSauna scrub ritual (self-applied) and sauna whisk \n\n\nFireside bell tent chill-out \n\n\nWarm drinks & sweet treats \n\n\nOn-hand guidance throughout \n\n\nPrice\n£100 per couple (only two couples in a session each with private sauna tent)Includes private sauna\, fireside contrast\, sauna rituals and bell tent wind-down with drinks & treats. \n*if you would like to add breathwork to your experience for additional cost please contact chelsie on 07746462429) \nTimes\n\n17:00-18:30\n19:00-20:30\n\nBookings\nBook using the calendar below or whatsapp Chelsie on 07747462429 for more info. \n\n		\n\n			\n			\n				\n										\n						\n					\n					\n						April 2026											\n									\n			\n			\n								Mon\n				Tue\n				Wed\n				Thu\n				Fri\n				Sat				Sun			\n		\n		3031123456789101112131415161718192021222324252627282930123
URL:https://bodybreathmind.life/event/valentines-fireside-sauna-experience/
LOCATION:Saunas with a View Pop-Up\, Hawk Green Cricket Club\, Hawk Green\, Marple\, Stockport\, United Kingdom
CATEGORIES:Winter Wellness Pop Up
ATTACH;FMTTYPE=image/jpeg:https://bodybreathmind.life/wp-content/uploads/2026/01/9FEA9335-BB57-47B7-9525-B66B83839830_1_105_c-e1768850107596.jpeg
ORGANIZER;CN="chelsie":MAILTO:chelsie@thefitbreath.com
END:VEVENT
BEGIN:VEVENT
DTSTART;TZID=UTC:20260225T180000
DTEND;TZID=UTC:20260225T203000
DTSTAMP:20260424T180759
CREATED:20260223T122440Z
LAST-MODIFIED:20260223T123704Z
UID:47217-1772042400-1772051400@bodybreathmind.life
SUMMARY:Wednesday Recovery (Sauna + Cold Plunge)
DESCRIPTION:Outdoor Sauna with a View Wednesday Recovery sessions run every Wednesday at the Wellness Pop-Up\, Hawk Green Cricket Club. \nFor the serious recovery crowd\, sauna with access to cold plunge. Straightforward\, all-weather outdoor recovery with no spa pretence. \nAll sessions take place in the outdoor sauna tents with access to the chill-out area and cold camping showers.  Please arrive 10 minutes early and bring a towel\, water and warm layers. \nSESSION OPTIONS & PRICING\nChoose from the following times: \n\n18:00-19:00\n19:30-20:30\n\nSauna + UnSupervised Cold Plunge – 60 minutes \nA heat cycle followed by a safe\, guided cold plunge with breath cueing. \n\n£12 Standard Price\nPrivate Sauna £60\n\nLOCATION\nHawk Green Cricket Club\, Marple. \nBOOKING\nUse the booking calendar below to choose your time and session type and request a booking or Whatsapp message Chelsie on 07747462429.  Once your appointment has been accepted you will get an email with details of how to pay and what to bring. \n\n		\n\n			\n			\n				\n										\n						\n					\n					\n						April 2026											\n									\n			\n			\n								Mon\n				Tue\n				Wed\n				Thu\n				Fri\n				Sat				Sun			\n		\n		3031123456789101112131415161718192021222324252627282930123
URL:https://bodybreathmind.life/event/wednesday-recovery-sauna-cold-plunge/
CATEGORIES:Sauna with a View,Winter Wellness Pop Up
ATTACH;FMTTYPE=image/jpeg:https://bodybreathmind.life/wp-content/uploads/2026/01/3324AB5C-39CC-43A4-BD9E-F8A456A97CA9_1_105_c-e1767439921172.jpeg
END:VEVENT
END:VCALENDAR